BEGIN:VCALENDAR
METHOD:PUBLISH
VERSION:2.0
PRODID:-//WoltLab GmbH//WoltLab Suite Calendar 5.4//EN
CALSCALE:GREGORIAN
X-WR-CALNAME;VALUE=TEXT:26.06.2020 [Lft] Ausbildung/Übung für den Häuserkam
 pf
BEGIN:VEVENT
TRANSP:OPAQUE
UID:event-992@forum.nato-taskforce.com
URL:https://forum.nato-taskforce.com/calendar/event/992-26-06-2020-lft-ausb
 ildung-%C3%BCbung-f%C3%BCr-den-h%C3%A4userkampf/
DTSTART:20200626T150000Z
DTSTAMP:20200626T150000Z
CREATED:20200626T150000Z
SUMMARY:26.06.2020 [Lft] Ausbildung/Übung für den Häuserkampf
DESCRIPTION:Hier der Link [URL:https://forum.nato-taskforce.com/forum/index
 .php?thread/3127-26-06-2020-lft-ausbildung-%C3%BCbung-f%C3%BCr-den-h%C3%A4u
 serkampf/] zur Ausbildung
DTEND:20200626T170000Z
END:VEVENT
END:VCALENDAR
