BEGIN:VCALENDAR
METHOD:PUBLISH
VERSION:2.0
PRODID:-//WoltLab GmbH//WoltLab Suite Calendar 5.4//EN
CALSCALE:GREGORIAN
X-WR-CALNAME;VALUE=TEXT:[Carol] Operation Market Garden
BEGIN:VEVENT
TRANSP:TRANSPARENT
UID:event-989@forum.nato-taskforce.com
URL:https://forum.nato-taskforce.com/calendar/event/989-carol-operation-mar
 ket-garden/
DTSTART;VALUE=DATE:20200725
DTSTAMP:20200725T000000Z
CREATED:20200725T000000Z
SUMMARY:[Carol] Operation Market Garden
DESCRIPTION:[Carol] Operation Market Garden [25.07.20] [URL:https://forum.n
 ato-taskforce.com/forum/index.php?thread/3123-carol-operation-market-garden
 -25-07-20/]
DTEND;VALUE=DATE:20200726
END:VEVENT
END:VCALENDAR
