BEGIN:VCALENDAR
METHOD:PUBLISH
VERSION:2.0
PRODID:-//WoltLab GmbH//WoltLab Suite Calendar 5.4//EN
CALSCALE:GREGORIAN
X-WR-CALNAME;VALUE=TEXT:[Rok] OP Swordfish [06.06.20]
BEGIN:VEVENT
TRANSP:OPAQUE
UID:event-985@forum.nato-taskforce.com
URL:https://forum.nato-taskforce.com/calendar/event/985-rok-op-swordfish-06
 -06-20/
DTSTART:20200606T180000Z
DTSTAMP:20200606T180000Z
CREATED:20200606T180000Z
SUMMARY:[Rok] OP Swordfish [06.06.20]
DESCRIPTION:https://forum.nato-taskforce.com/forum/index.php?thread/3121-ro
 k-op-swordfish-06-06-20/ [URL:https://forum.nato-taskforce.com/forum/index.
 php?thread/3114-rok-tvt-hard-days-06-06-20/]
DTEND:20200606T210000Z
END:VEVENT
END:VCALENDAR
