BEGIN:VCALENDAR
METHOD:PUBLISH
VERSION:2.0
PRODID:-//WoltLab GmbH//WoltLab Suite Calendar 5.4//EN
CALSCALE:GREGORIAN
X-WR-CALNAME;VALUE=TEXT:27.06.2020 | [rbtv] CO88 Die 4. Arma Nacht
BEGIN:VEVENT
TRANSP:OPAQUE
UID:event-975@forum.nato-taskforce.com
URL:https://forum.nato-taskforce.com/calendar/event/975-27-06-2020-rbtv-co8
 8-die-4-arma-nacht/
DTSTART:20200627T160000Z
DTSTAMP:20200627T160000Z
CREATED:20200627T160000Z
SUMMARY:27.06.2020 | [rbtv] CO88 Die 4. Arma Nacht
DESCRIPTION:https://forum.nato-taskforce.com/forum/index.php?thread/3109-27
 -06-2020-rbtv-co88-die-4-arma-nacht/ [URL:https://forum.nato-taskforce.com/
 forum/index.php?thread/3118-27-06-2020-rbtv-co62-die-6-rocket-beans-arma-na
 cht/]
DTEND:20200627T215900Z
END:VEVENT
END:VCALENDAR
