BEGIN:VCALENDAR
METHOD:PUBLISH
VERSION:2.0
PRODID:-//WoltLab GmbH//WoltLab Suite Calendar 5.4//EN
CALSCALE:GREGORIAN
X-WR-CALNAME;VALUE=TEXT:30.05.2020 | [Sam] CO55 Operation White Dove
BEGIN:VEVENT
TRANSP:OPAQUE
UID:event-970@forum.nato-taskforce.com
URL:https://forum.nato-taskforce.com/calendar/event/970-30-05-2020-sam-co55
 -operation-white-dove/
DTSTART:20200530T180000Z
DTSTAMP:20200530T180000Z
CREATED:20200530T180000Z
SUMMARY:30.05.2020 | [Sam] CO55 Operation White Dove
DESCRIPTION:30.05.2020 | [Sam] CO55 Operation White Dove [URL:https://forum
 .nato-taskforce.com/forum/index.php?thread/3090-30-05-2020-sam-co55-operati
 on-white-dove/#post43643]
DTEND:20200530T215900Z
END:VEVENT
END:VCALENDAR
