BEGIN:VCALENDAR
METHOD:PUBLISH
VERSION:2.0
PRODID:-//WoltLab GmbH//WoltLab Suite Calendar 5.4//EN
CALSCALE:GREGORIAN
X-WR-CALNAME;VALUE=TEXT:15.04.2020 |[SBT] Allgemeine Grundausbildung
BEGIN:VEVENT
TRANSP:OPAQUE
UID:event-967@forum.nato-taskforce.com
URL:https://forum.nato-taskforce.com/calendar/event/967-15-04-2020-sbt-allg
 emeine-grundausbildung/
DTSTART:20200415T160000Z
DTSTAMP:20200415T160000Z
CREATED:20200415T160000Z
SUMMARY:15.04.2020 |[SBT] Allgemeine Grundausbildung
DESCRIPTION:Link zum Ausbildungstermin [URL:https://forum.nato-taskforce.co
 m/forum/index.php?thread/3085-15-04-2020-sbt-allgemeine-grundausbildung/]
DTEND:20200415T190000Z
END:VEVENT
END:VCALENDAR
