BEGIN:VCALENDAR
METHOD:PUBLISH
VERSION:2.0
PRODID:-//WoltLab GmbH//WoltLab Suite Calendar 5.4//EN
CALSCALE:GREGORIAN
X-WR-CALNAME;VALUE=TEXT:29.03.2020 [RTT] Aufklärerausbildung Teil 2
BEGIN:VEVENT
TRANSP:TRANSPARENT
UID:event-950@forum.nato-taskforce.com
URL:https://forum.nato-taskforce.com/calendar/event/950-29-03-2020-rtt-aufk
 l%C3%A4rerausbildung-teil-2/
DTSTART;VALUE=DATE:20200329
DTSTAMP:20200329T000000Z
CREATED:20200329T000000Z
SUMMARY:29.03.2020 [RTT] Aufklärerausbildung Teil 2
DESCRIPTION:29.03.2020 [RTT] Aufklärerausbildung Teil 2 [URL:https://forum.
 nato-taskforce.com/forum/index.php?thread/3059-29-03-2020-rtt-aufkl%C3%A4re
 rausbildung-teil-2/]
DTEND;VALUE=DATE:20200330
END:VEVENT
END:VCALENDAR
