BEGIN:VCALENDAR
METHOD:PUBLISH
VERSION:2.0
PRODID:-//WoltLab GmbH//WoltLab Suite Calendar 5.4//EN
CALSCALE:GREGORIAN
X-WR-CALNAME;VALUE=TEXT:06.03.2020 | [Sam] Operation Zeus
BEGIN:VEVENT
TRANSP:OPAQUE
UID:event-939@forum.nato-taskforce.com
URL:https://forum.nato-taskforce.com/calendar/event/939-06-03-2020-sam-oper
 ation-zeus/
DTSTART:20200306T190000Z
DTSTAMP:20200306T190000Z
CREATED:20200306T190000Z
SUMMARY:06.03.2020 | [Sam] Operation Zeus
DESCRIPTION:06.03.2020 | [Sam] Operation Zeus [URL:https://forum.nato-taskf
 orce.com/forum/index.php?thread/3045-06-03-2020-sam-operation-zeus/]
DTEND:20200306T220000Z
END:VEVENT
END:VCALENDAR
