BEGIN:VCALENDAR
METHOD:PUBLISH
VERSION:2.0
PRODID:-//WoltLab GmbH//WoltLab Suite Calendar 5.4//EN
CALSCALE:GREGORIAN
X-WR-CALNAME;VALUE=TEXT:20.02.2020 [Zeus] [Lemobi] Operaatio Napakettu
BEGIN:VEVENT
TRANSP:OPAQUE
UID:event-932@forum.nato-taskforce.com
URL:https://forum.nato-taskforce.com/calendar/event/932-20-02-2020-zeus-lem
 obi-operaatio-napakettu/
DTSTART:20200220T190000Z
DTSTAMP:20200220T190000Z
CREATED:20200220T190000Z
SUMMARY:20.02.2020 [Zeus] [Lemobi] Operaatio Napakettu
DESCRIPTION:https://forum.nato-taskforce.com/forum/index.php?thread/3036-20
 -02-2020-zeus-lemobi-operaatio-napakettu/ [URL:https://forum.nato-taskforce
 .com/forum/index.php?thread/3036-20-02-2020-lemobi-operaatio-napakettu/#pos
 t42793]
DTEND:20200220T200000Z
END:VEVENT
END:VCALENDAR
