BEGIN:VCALENDAR
METHOD:PUBLISH
VERSION:2.0
PRODID:-//WoltLab GmbH//WoltLab Suite Calendar 5.4//EN
CALSCALE:GREGORIAN
X-WR-CALNAME;VALUE=TEXT:21.02.2020 | [Sam] CO21 Operation Future Technic
BEGIN:VEVENT
TRANSP:OPAQUE
UID:event-929@forum.nato-taskforce.com
URL:https://forum.nato-taskforce.com/calendar/event/929-21-02-2020-sam-co21
 -operation-future-technic/
DTSTART:20200221T070000Z
DTSTAMP:20200221T070000Z
CREATED:20200221T070000Z
SUMMARY:21.02.2020 | [Sam] CO21 Operation Future Technic
DESCRIPTION:21.02.2020 | [Sam] CO21 Operation Future Technic [URL:https://f
 orum.nato-taskforce.com/forum/index.php?thread/3022-21-02-2020-sam-co21-ope
 ration-future-technic/]
DTEND:20200221T190000Z
END:VEVENT
END:VCALENDAR
