BEGIN:VCALENDAR
METHOD:PUBLISH
VERSION:2.0
PRODID:-//WoltLab GmbH//WoltLab Suite Calendar 5.4//EN
CALSCALE:GREGORIAN
X-WR-CALNAME;VALUE=TEXT:23.02.2020 | Artillerieausbildung Teil 2(Mörser)
BEGIN:VEVENT
TRANSP:OPAQUE
UID:event-926@forum.nato-taskforce.com
URL:https://forum.nato-taskforce.com/calendar/event/926-23-02-2020-artiller
 ieausbildung-teil-2-m%C3%B6rser/
DTSTART:20200223T170000Z
DTSTAMP:20200223T170000Z
CREATED:20200223T170000Z
SUMMARY:23.02.2020 | Artillerieausbildung Teil 2(Mörser)
DESCRIPTION:23.02.2020 | [GM] Artillerieausbildung Teil 2(Mörser) [URL:http
 s://forum.nato-taskforce.com/forum/index.php?thread/3029-23-02-2020-gm-arti
 llerieausbildung-teil-2-m%C3%B6rser/]
DTEND:20200223T190000Z
END:VEVENT
END:VCALENDAR
