BEGIN:VCALENDAR
METHOD:PUBLISH
VERSION:2.0
PRODID:-//WoltLab GmbH//WoltLab Suite Calendar 5.4//EN
CALSCALE:GREGORIAN
X-WR-CALNAME;VALUE=TEXT:04.02.2020 SGA Kampfpanzer
BEGIN:VEVENT
TRANSP:OPAQUE
UID:event-924@forum.nato-taskforce.com
URL:https://forum.nato-taskforce.com/calendar/event/924-04-02-2020-sga-kamp
 fpanzer/
DTSTART:20200204T070000Z
DTSTAMP:20200204T070000Z
CREATED:20200204T070000Z
SUMMARY:04.02.2020 SGA Kampfpanzer
DESCRIPTION:Siehe Link: 04.02.2020 SGA Kampfpanzer [URL:https://forum.nato-
 taskforce.com/forum/index.php?thread/3027-04-02-2020-sga-kampfpanzer/]
DTEND:20200204T190000Z
END:VEVENT
END:VCALENDAR
