BEGIN:VCALENDAR
METHOD:PUBLISH
VERSION:2.0
PRODID:-//WoltLab GmbH//WoltLab Suite Calendar 5.4//EN
CALSCALE:GREGORIAN
X-WR-CALNAME;VALUE=TEXT:02.02.2020 AGA-Allgemeine Grundausbildung
BEGIN:VEVENT
TRANSP:OPAQUE
UID:event-922@forum.nato-taskforce.com
URL:https://forum.nato-taskforce.com/calendar/event/922-02-02-2020-aga-allg
 emeine-grundausbildung/
DTSTART:20200202T140000Z
DTSTAMP:20200202T140000Z
CREATED:20200202T140000Z
SUMMARY:02.02.2020 AGA-Allgemeine Grundausbildung
DESCRIPTION:02.02.2020 AGA-Allgemeine Grundausbildung [URL:https://forum.na
 to-taskforce.com/forum/index.php?thread/3024-02-02-2020-aga-allgemeine-grun
 dausbildung/]
DTEND:20200202T170000Z
END:VEVENT
END:VCALENDAR
