BEGIN:VCALENDAR
METHOD:PUBLISH
VERSION:2.0
PRODID:-//WoltLab GmbH//WoltLab Suite Calendar 5.4//EN
CALSCALE:GREGORIAN
X-WR-CALNAME;VALUE=TEXT:30.01.2019 | [GM] Artillerieausbildung Teil 2(Mörse
 r)
BEGIN:VEVENT
TRANSP:OPAQUE
UID:event-919@forum.nato-taskforce.com
URL:https://forum.nato-taskforce.com/calendar/event/919-30-01-2019-gm-artil
 lerieausbildung-teil-2-m%C3%B6rser/
DTSTART:20200130T190000Z
DTSTAMP:20200130T190000Z
CREATED:20200130T190000Z
SUMMARY:30.01.2019 | [GM] Artillerieausbildung Teil 2(Mörser)
DESCRIPTION:30.01.2019 | [GM] Artillerieausbildung Teil 2(Mörser) [URL:http
 s://forum.nato-taskforce.com/forum/index.php?thread/3018-30-01-2019-gm-arti
 llerieausbildung-teil-2-m%C3%B6rser/]
DTEND:20200130T210000Z
END:VEVENT
END:VCALENDAR
