BEGIN:VCALENDAR
METHOD:PUBLISH
VERSION:2.0
PRODID:-//WoltLab GmbH//WoltLab Suite Calendar 5.4//EN
CALSCALE:GREGORIAN
X-WR-CALNAME;VALUE=TEXT:15.02.2020 | [rbtv] CO62 Die 5. Rocket Beans Arma N
 acht
BEGIN:VEVENT
TRANSP:OPAQUE
UID:event-918@forum.nato-taskforce.com
URL:https://forum.nato-taskforce.com/calendar/event/918-15-02-2020-rbtv-co6
 2-die-5-rocket-beans-arma-nacht/
DTSTART:20200215T160000Z
DTSTAMP:20200215T160000Z
CREATED:20200215T160000Z
SUMMARY:15.02.2020 | [rbtv] CO62 Die 5. Rocket Beans Arma Nacht
DESCRIPTION:15.02.2020 | [rbtv] CO62 Die 5. Rocket Beans Arma Nacht [URL:ht
 tps://forum.nato-taskforce.com/forum/index.php?thread/3012-15-02-2020-rbtv-
 co62-die-5-rocket-beans-arma-nacht/]
DTEND:20200215T225900Z
END:VEVENT
END:VCALENDAR
