BEGIN:VCALENDAR
METHOD:PUBLISH
VERSION:2.0
PRODID:-//WoltLab GmbH//WoltLab Suite Calendar 5.4//EN
CALSCALE:GREGORIAN
X-WR-CALNAME;VALUE=TEXT:07.02.2020 | [Sam] CO22 Kampagne: Germania de Proel
 io IV
BEGIN:VEVENT
TRANSP:OPAQUE
UID:event-916@forum.nato-taskforce.com
URL:https://forum.nato-taskforce.com/calendar/event/916-07-02-2020-sam-co22
 -kampagne-germania-de-proelio-iv/
DTSTART:20200207T190000Z
DTSTAMP:20200207T190000Z
CREATED:20200207T190000Z
SUMMARY:07.02.2020 | [Sam] CO22 Kampagne: Germania de Proelio IV
DESCRIPTION:07.02.2019 | [Sam] CO22 Kampagne: Germania de Proelio IV [URL:h
 ttps://forum.nato-taskforce.com/forum/index.php?thread/3013-07-02-2019-sam-
 co22-kampagne-germania-de-proelio-iv/]
DTEND:20200207T220000Z
END:VEVENT
END:VCALENDAR
