BEGIN:VCALENDAR
METHOD:PUBLISH
VERSION:2.0
PRODID:-//WoltLab GmbH//WoltLab Suite Calendar 5.4//EN
CALSCALE:GREGORIAN
X-WR-CALNAME;VALUE=TEXT:Die 3. Arma Nacht
BEGIN:VEVENT
TRANSP:OPAQUE
UID:event-915@forum.nato-taskforce.com
URL:https://forum.nato-taskforce.com/calendar/event/915-die-3-arma-nacht/
DTSTART:20200208T183000Z
DTSTAMP:20200208T183000Z
CREATED:20200208T183000Z
SUMMARY:Die 3. Arma Nacht
DTEND:20200209T000000Z
END:VEVENT
END:VCALENDAR
