BEGIN:VCALENDAR
METHOD:PUBLISH
VERSION:2.0
PRODID:-//WoltLab GmbH//WoltLab Suite Calendar 5.4//EN
CALSCALE:GREGORIAN
X-WR-CALNAME;VALUE=TEXT:14.02.2020 | [Par] HC15 Operation British Freedom
BEGIN:VEVENT
TRANSP:OPAQUE
UID:event-911@forum.nato-taskforce.com
URL:https://forum.nato-taskforce.com/calendar/event/911-14-02-2020-par-hc15
 -operation-british-freedom/
DTSTART:20200214T183000Z
DTSTAMP:20200214T183000Z
CREATED:20200214T183000Z
SUMMARY:14.02.2020 | [Par] HC15 Operation British Freedom
DESCRIPTION:14.02.2020 | [Par] HC15 Operation British Freedom [URL:https://
 forum.nato-taskforce.com/forum/index.php?thread/2922-14-02-2020-par-hc15-op
 eration-british-freedom/]
DTEND:20200214T225900Z
END:VEVENT
END:VCALENDAR
