BEGIN:VCALENDAR
METHOD:PUBLISH
VERSION:2.0
PRODID:-//WoltLab GmbH//WoltLab Suite Calendar 5.4//EN
CALSCALE:GREGORIAN
X-WR-CALNAME;VALUE=TEXT:01.02.2020 | [Parrot] CO14 Operation Deathwatch
BEGIN:VEVENT
TRANSP:OPAQUE
UID:event-910@forum.nato-taskforce.com
URL:https://forum.nato-taskforce.com/calendar/event/910-01-02-2020-parrot-c
 o14-operation-deathwatch/
DTSTART:20200201T183000Z
DTSTAMP:20200201T183000Z
CREATED:20200201T183000Z
SUMMARY:01.02.2020 | [Parrot] CO14 Operation Deathwatch
DESCRIPTION:01.02.2020 | [Parrot] CO14 Operation Deathwatch [URL:https://fo
 rum.nato-taskforce.com/forum/index.php?thread/2921-01-02-2020-parrot-co14-o
 peration-deathwatch/]
DTEND:20200201T225900Z
END:VEVENT
END:VCALENDAR
