BEGIN:VCALENDAR
METHOD:PUBLISH
VERSION:2.0
PRODID:-//WoltLab GmbH//WoltLab Suite Calendar 5.4//EN
CALSCALE:GREGORIAN
X-WR-CALNAME;VALUE=TEXT:[WND] HC8 Operation Stolen Acid
BEGIN:VEVENT
TRANSP:OPAQUE
UID:event-908@forum.nato-taskforce.com
URL:https://forum.nato-taskforce.com/calendar/event/908-wnd-hc8-operation-s
 tolen-acid/
DTSTART:20200102T232800Z
DTSTAMP:20200102T232800Z
CREATED:20200102T232800Z
SUMMARY:[WND] HC8 Operation Stolen Acid
DESCRIPTION:Klick mich [URL:https://forum.nato-taskforce.com/forum/index.ph
 p?thread/3001-03-01-2020-wnd-hc8-operation-stolen-acid/]
DTEND:20200103T002800Z
CATEGORIES:[WND] HC8 Operation Stolen Aci
END:VEVENT
END:VCALENDAR
