BEGIN:VCALENDAR
METHOD:PUBLISH
VERSION:2.0
PRODID:-//WoltLab GmbH//WoltLab Suite Calendar 5.4//EN
CALSCALE:GREGORIAN
X-WR-CALNAME;VALUE=TEXT:SGA-Sanitäter
BEGIN:VEVENT
TRANSP:OPAQUE
UID:event-906@forum.nato-taskforce.com
URL:https://forum.nato-taskforce.com/calendar/event/906-sga-sanit%C3%A4ter/
DTSTART:20200112T190000Z
DTSTAMP:20200112T190000Z
CREATED:20200112T190000Z
SUMMARY:SGA-Sanitäter
DESCRIPTION:12.01.2020 SGA-Sanitäter [URL:https://forum.nato-taskforce.com/
 forum/index.php?thread/2998-12-01-2020-sga-sanit%C3%A4ter/]
DTEND:20200112T210000Z
END:VEVENT
END:VCALENDAR
