BEGIN:VCALENDAR
METHOD:PUBLISH
VERSION:2.0
PRODID:-//WoltLab GmbH//WoltLab Suite Calendar 5.4//EN
CALSCALE:GREGORIAN
X-WR-CALNAME;VALUE=TEXT:13.01.2020 Öffentliche Stabsbesprechung
BEGIN:VEVENT
TRANSP:OPAQUE
UID:event-900@forum.nato-taskforce.com
URL:https://forum.nato-taskforce.com/calendar/event/900-13-01-2020-%C3%B6ff
 entliche-stabsbesprechung/
DTSTART:20200113T190000Z
DTSTAMP:20200113T190000Z
CREATED:20200113T190000Z
SUMMARY:13.01.2020 Öffentliche Stabsbesprechung
DTEND:20200113T210000Z
END:VEVENT
END:VCALENDAR
