BEGIN:VCALENDAR
METHOD:PUBLISH
VERSION:2.0
PRODID:-//WoltLab GmbH//WoltLab Suite Calendar 5.4//EN
CALSCALE:GREGORIAN
X-WR-CALNAME;VALUE=TEXT:04.01.2020 | [Sam] CO21 Kampagne: Germania de Proel
 io III
BEGIN:VEVENT
TRANSP:OPAQUE
UID:event-897@forum.nato-taskforce.com
URL:https://forum.nato-taskforce.com/calendar/event/897-04-01-2020-sam-co21
 -kampagne-germania-de-proelio-iii/
DTSTART:20200104T190000Z
DTSTAMP:20200104T190000Z
CREATED:20200104T190000Z
SUMMARY:04.01.2020 | [Sam] CO21 Kampagne: Germania de Proelio III
DESCRIPTION:04.01.2020 | [Sam] CO21 Kampagne: Germania de Proelio III [URL:
 https://forum.nato-taskforce.com/forum/index.php?thread/2974-04-01-2020-sam
 -co21-kampagne-germania-de-proelio-iii/#post41871]
DTEND:20200104T225900Z
END:VEVENT
END:VCALENDAR
