BEGIN:VCALENDAR
METHOD:PUBLISH
VERSION:2.0
PRODID:-//WoltLab GmbH//WoltLab Suite Calendar 5.4//EN
CALSCALE:GREGORIAN
X-WR-CALNAME;VALUE=TEXT:PvE Spieleabend
BEGIN:VEVENT
TRANSP:OPAQUE
UID:event-1602@forum.nato-taskforce.com
URL:https://forum.nato-taskforce.com/calendar/event/5039-pve-spieleabend/
DTSTART:20260331T170000Z
DTSTAMP:20260331T170000Z
CREATED:20260331T170000Z
SUMMARY:PvE Spieleabend
DESCRIPTION:Wann?\nJeden Dienstag\nStart: 19:00\nEnde: open End\n\nSpielser
 ver?\nNato Taskforce - Public PvE Server\nPw: kein Passwort\n\nEinsatzgebie
 t?\nEveron\n\nWas spielen wir?\nDas wird ein entspannter\, aber trotzdem di
 sziplinierter Spieleabend. Keine Yolo-Aktionen\, kein Hara-Kiri - auch hier
  legen wir Wert auf gutes Gameplay!\nZudem bitte ich euch\, eine grobe Roll
 enauswahl in der Slottung vorzunehmen.\n\nDie Slottung findet ihr auf dem D
 iscord in der Kategorie \"PvE-Server\".\n\nIm Bereich Kanäle & Rollen auf u
 nserem Discord könnt ihr euch die Rolle \"PvE-Server\" geben. \nDamit bekom
 mt ihr alle Infos und verpasst keine Neuigkeiten rund um den NTF PvE-Server
 .
DTEND:20260331T210000Z
RRULE:FREQ=WEEKLY;INTERVAL=1;BYDAY=TU;WKST=MO;UNTIL=20261229
END:VEVENT
END:VCALENDAR
