BEGIN:VCALENDAR
METHOD:PUBLISH
VERSION:2.0
PRODID:-//WoltLab GmbH//WoltLab Suite Calendar 5.4//EN
CALSCALE:GREGORIAN
X-WR-CALNAME;VALUE=TEXT:Öffentliche Stabsbesprechung
BEGIN:VEVENT
TRANSP:OPAQUE
UID:event-1594@forum.nato-taskforce.com
URL:https://forum.nato-taskforce.com/calendar/event/5031-%C3%B6ffentliche-s
 tabsbesprechung/
DTSTART:20260426T170000Z
DTSTAMP:20260426T170000Z
CREATED:20260426T170000Z
SUMMARY:Öffentliche Stabsbesprechung
DESCRIPTION:📢 Einladung zur öffentlichen Stabsbesprechung\n\nDas erste Quar
 tal 2026 nähert sich dem wohlverdienten Ende.\nWir haben vieles erneuert\, 
 einige Änderungen umgesetzt und bereits erste gesteckte Ziele erreicht.\n\n
 Daher möchten wir euch herzlich zu unserer öffentlichen Stabsbesprechung ei
 nladen\, um gemeinsam auf die vergangenen Monate zu blicken und über die we
 itere Ausrichtung für 2026 zu sprechen.\n\nAußerdem werden die einzelnen Be
 reiche einen kleinen Einblick in ihre Arbeit geben und vorstellen\, was bis
 her passiert ist und was in Zukunft geplant ist.\n\n📅 Datum: 12.04.2026\n🕖 
 Uhrzeit: 19:00 Uhr\n\n\n\n\nFORTES SOLI – FORTIORES UNA | Stark alleine – S
 tärker zusammen
DTEND:20260426T180000Z
END:VEVENT
END:VCALENDAR
