BEGIN:VCALENDAR
METHOD:PUBLISH
VERSION:2.0
PRODID:-//WoltLab GmbH//WoltLab Suite Calendar 5.4//EN
CALSCALE:GREGORIAN
X-WR-CALNAME;VALUE=TEXT:ArmA Reforger | 3. JgKp | Operation Typhoon
BEGIN:VEVENT
TRANSP:OPAQUE
UID:event-1591@forum.nato-taskforce.com
URL:https://forum.nato-taskforce.com/calendar/event/5028-arma-reforger-3-jg
 kp-operation-typhoon/
DTSTART:20260228T070000Z
DTSTAMP:20260228T070000Z
CREATED:20260228T070000Z
SUMMARY:ArmA Reforger | 3. JgKp | Operation Typhoon
DESCRIPTION:
DTEND:20260228T190000Z
END:VEVENT
END:VCALENDAR
