BEGIN:VCALENDAR
METHOD:PUBLISH
VERSION:2.0
PRODID:-//WoltLab GmbH//WoltLab Suite Calendar 5.4//EN
CALSCALE:GREGORIAN
X-WR-CALNAME;VALUE=TEXT:DCS-Abend - Action am Himmel!
BEGIN:VEVENT
TRANSP:OPAQUE
UID:event-1494@forum.nato-taskforce.com
URL:https://forum.nato-taskforce.com/calendar/event/3634-dcs-abend-action-a
 m-himmel/
DTSTART:20250604T170000Z
DTSTAMP:20250604T170000Z
CREATED:20250604T170000Z
SUMMARY:DCS-Abend - Action am Himmel!
DESCRIPTION:
DTEND:20250604T210000Z
RRULE:FREQ=WEEKLY;INTERVAL=1;BYDAY=WE;WKST=MO
END:VEVENT
END:VCALENDAR
