BEGIN:VCALENDAR
METHOD:PUBLISH
VERSION:2.0
PRODID:-//WoltLab GmbH//WoltLab Suite Calendar 5.4//EN
CALSCALE:GREGORIAN
X-WR-CALNAME;VALUE=TEXT:[TTT] Co39 | Donnerhall
BEGIN:VEVENT
TRANSP:OPAQUE
UID:event-1434@forum.nato-taskforce.com
URL:https://forum.nato-taskforce.com/calendar/event/3553-ttt-co39-donnerhal
 l/
DTSTART:20240906T173000Z
DTSTAMP:20240906T173000Z
CREATED:20240906T173000Z
SUMMARY:[TTT] Co39 | Donnerhall
DESCRIPTION:
DTEND:20240906T213000Z
END:VEVENT
END:VCALENDAR
