BEGIN:VCALENDAR
METHOD:PUBLISH
VERSION:2.0
PRODID:-//WoltLab GmbH//WoltLab Suite Calendar 5.4//EN
CALSCALE:GREGORIAN
X-WR-CALNAME;VALUE=TEXT:[niCe] Co19 | Operation Red Feb
BEGIN:VEVENT
TRANSP:OPAQUE
UID:event-1401@forum.nato-taskforce.com
URL:https://forum.nato-taskforce.com/calendar/event/3520-nice-co19-operatio
 n-red-feb/
DTSTART:20240622T173000Z
DTSTAMP:20240622T173000Z
CREATED:20240622T173000Z
SUMMARY:[niCe] Co19 | Operation Red Feb
DESCRIPTION:>Missionsbeitrag [URL:https://forum.nato-taskforce.com/forum/in
 dex.php?thread/3656-22-06-2024-nice-co19-missionsname-fehlt-noch/#post50805
 ]<
DTEND:20240622T213000Z
END:VEVENT
END:VCALENDAR
