BEGIN:VCALENDAR
METHOD:PUBLISH
VERSION:2.0
PRODID:-//WoltLab GmbH//WoltLab Suite Calendar 5.4//EN
CALSCALE:GREGORIAN
X-WR-CALNAME;VALUE=TEXT:[RLXO] Co12 OP: Quantum #1
BEGIN:VEVENT
TRANSP:OPAQUE
UID:event-1398@forum.nato-taskforce.com
URL:https://forum.nato-taskforce.com/calendar/event/3517-rlxo-co12-op-quant
 um-1/
DTSTART:20240511T173000Z
DTSTAMP:20240511T173000Z
CREATED:20240511T173000Z
SUMMARY:[RLXO] Co12 OP: Quantum #1
DESCRIPTION:
DTEND:20240511T213000Z
END:VEVENT
END:VCALENDAR
