BEGIN:VCALENDAR
METHOD:PUBLISH
VERSION:2.0
PRODID:-//WoltLab GmbH//WoltLab Suite Calendar 5.4//EN
CALSCALE:GREGORIAN
X-WR-CALNAME;VALUE=TEXT:[EWD] CO26 Operation Gegenstoss
BEGIN:VEVENT
TRANSP:OPAQUE
UID:event-1396@forum.nato-taskforce.com
URL:https://forum.nato-taskforce.com/calendar/event/3515-ewd-co26-operation
 -gegenstoss/
DTSTART:20240525T180000Z
DTSTAMP:20240525T180000Z
CREATED:20240525T180000Z
SUMMARY:[EWD] CO26 Operation Gegenstoss
DESCRIPTION:https://forum.nato-taskforce.com/forum/index.php?thread/3646
DTEND:20240525T215900Z
END:VEVENT
END:VCALENDAR
