BEGIN:VCALENDAR
METHOD:PUBLISH
VERSION:2.0
PRODID:-//WoltLab GmbH//WoltLab Suite Calendar 5.4//EN
CALSCALE:GREGORIAN
X-WR-CALNAME;VALUE=TEXT:[Parrot] CO30 Operation Black Gold
BEGIN:VEVENT
TRANSP:OPAQUE
UID:event-1391@forum.nato-taskforce.com
URL:https://forum.nato-taskforce.com/calendar/event/3510-parrot-co30-operat
 ion-black-gold/
DTSTART:20240413T173000Z
DTSTAMP:20240413T173000Z
CREATED:20240413T173000Z
SUMMARY:[Parrot] CO30 Operation Black Gold
DESCRIPTION:
DTEND:20240413T215000Z
END:VEVENT
END:VCALENDAR
