BEGIN:VCALENDAR
METHOD:PUBLISH
VERSION:2.0
PRODID:-//WoltLab GmbH//WoltLab Suite Calendar 5.4//EN
CALSCALE:GREGORIAN
X-WR-CALNAME;VALUE=TEXT:[Hulk] CO27 - 'Nam #1
BEGIN:VEVENT
TRANSP:OPAQUE
UID:event-1377@forum.nato-taskforce.com
URL:https://forum.nato-taskforce.com/calendar/event/3496-hulk-co27-nam-1/
DTSTART:20240209T070000Z
DTSTAMP:20240209T070000Z
CREATED:20240209T070000Z
SUMMARY:[Hulk] CO27 - 'Nam #1
DESCRIPTION:
DTEND:20240209T190000Z
END:VEVENT
END:VCALENDAR
