BEGIN:VCALENDAR
METHOD:PUBLISH
VERSION:2.0
PRODID:-//WoltLab GmbH//WoltLab Suite Calendar 5.4//EN
CALSCALE:GREGORIAN
X-WR-CALNAME;VALUE=TEXT:07.02.2021|[SBT] Allgemeine Grundausbildung
BEGIN:VEVENT
TRANSP:OPAQUE
UID:event-1076@forum.nato-taskforce.com
URL:https://forum.nato-taskforce.com/calendar/event/1076-07-02-2021-sbt-all
 gemeine-grundausbildung/
DTSTART:20210207T160000Z
DTSTAMP:20210207T160000Z
CREATED:20210207T160000Z
SUMMARY:07.02.2021|[SBT] Allgemeine Grundausbildung
DESCRIPTION:07.02.2021|[SBT] Allgemeine Grundausbildung [URL:https://forum.
 nato-taskforce.com/forum/index.php?thread/3243-07-02-2021-sbt-allgemeine-gr
 undausbildung/]
DTEND:20210207T190000Z
END:VEVENT
END:VCALENDAR
