BEGIN:VCALENDAR
METHOD:PUBLISH
VERSION:2.0
PRODID:-//WoltLab GmbH//WoltLab Suite Calendar 5.4//EN
CALSCALE:GREGORIAN
X-WR-CALNAME;VALUE=TEXT:26.11.2020|[SBT] Allgemeine Grundausbildung
BEGIN:VEVENT
TRANSP:OPAQUE
UID:event-1048@forum.nato-taskforce.com
URL:https://forum.nato-taskforce.com/calendar/event/1048-26-11-2020-sbt-all
 gemeine-grundausbildung/
DTSTART:20201126T160000Z
DTSTAMP:20201126T160000Z
CREATED:20201126T160000Z
SUMMARY:26.11.2020|[SBT] Allgemeine Grundausbildung
DESCRIPTION:26.11.2020|[SBT] Allgemeine Grundausbildung [URL:https://forum.
 nato-taskforce.com/forum/index.php?thread/3206-26-11-2020-sbt-allgemeine-gr
 undausbildung/]
DTEND:20201126T190000Z
END:VEVENT
END:VCALENDAR
